View In:
ArcGIS JavaScript
ArcGIS Online Map Viewer
ArcGIS Earth
ArcMap
View Footprint In:
ArcGIS Online Map Viewer
Service Description: Ortofoto Salinas, Ibarra, 2017
Name: DRONE/Salinas2017
Description: Ortofoto Salinas, Ibarra, 2017
Single Fused Map Cache: false
Extent:
XMin: -78.15617018931482
YMin: 0.5097650357760476
XMax: -78.14922757756302
YMax: 0.5158502623398541
Spatial Reference: 4326
(4326)
Initial Extent:
XMin: -78.15617018931482
YMin: 0.5097650357760476
XMax: -78.14922757756302
YMax: 0.5158502623398541
Spatial Reference: 4326
(4326)
Full Extent:
XMin: -78.15617018931482
YMin: 0.5097650357760476
XMax: -78.14922757756302
YMax: 0.5158502623398541
Spatial Reference: 4326
(4326)
Pixel Size X: 4.800588958509428E-7
Pixel Size Y: 4.800588958509389E-7
Band Count: 4
Pixel Type: U8
RasterFunction Infos: {"rasterFunctionInfos": [{
"name": "None",
"description": "",
"help": ""
}]}
Mensuration Capabilities: Basic
Has Histograms: true
Has Colormap: false
Has Multi Dimensions : false
Rendering Rule:
Min Scale: 0
Max Scale: 0
Copyright Text: GADP imbabura
Service Data Type: esriImageServiceDataTypeGeneric
Min Values: 3, 9, 1, 255
Max Values: 255, 255, 255, 255
Mean Values: 132.13251935692, 139.73477713467, 103.00818026265, 255
Standard Deviation Values: 40.258300401009, 35.274867990542, 37.684099125824, 0
Object ID Field:
Fields:
None
Default Mosaic Method: Center
Allowed Mosaic Methods:
SortField:
SortValue: null
Mosaic Operator: First
Default Compression Quality: 75
Default Resampling Method: Bilinear
Max Record Count: null
Max Image Height: 4100
Max Image Width: 15000
Max Download Image Count: null
Max Mosaic Image Count: null
Allow Raster Function: true
Allow Copy: null
Allow Analysis: null
Allow Compute TiePoints: false
Supports Statistics: false
Supports Advanced Queries: false
Use StandardizedQueries: true
Raster Type Infos:
Name: Raster Dataset
Description: Supports all ArcGIS Raster Datasets
Help:
Has Raster Attribute Table: false
Edit Fields Info: null
Ownership Based AccessControl For Rasters: null
Child Resources:
Info
Histograms
Key Properties
Legend
Raster Function Infos
Supported Operations:
Export Image
Identify
Measure
Compute Histograms
Compute Statistics Histograms
Get Samples
Compute Class Statistics
Query Boundary
Compute Pixel Location
Validate
Project