{
 "currentVersion": 10.9,
 "serviceDescription": "Ortofoto Salinas, Ibarra, 2017",
 "name": "DRONE/Salinas2017",
 "description": "Ortofoto Salinas, Ibarra, 2017",
 "extent": {
  "xmin": -78.15617018931482,
  "ymin": 0.5097650357760476,
  "xmax": -78.14922757756302,
  "ymax": 0.5158502623398541,
  "spatialReference": {
   "wkid": 4326,
   "latestWkid": 4326
  }
 },
 "initialExtent": {
  "xmin": -78.15617018931482,
  "ymin": 0.5097650357760476,
  "xmax": -78.14922757756302,
  "ymax": 0.5158502623398541,
  "spatialReference": {
   "wkid": 4326,
   "latestWkid": 4326
  }
 },
 "fullExtent": {
  "xmin": -78.15617018931482,
  "ymin": 0.5097650357760476,
  "xmax": -78.14922757756302,
  "ymax": 0.5158502623398541,
  "spatialReference": {
   "wkid": 4326,
   "latestWkid": 4326
  }
 },
 "pixelSizeX": 4.800588958509428E-7,
 "pixelSizeY": 4.800588958509389E-7,
 "bandCount": 4,
 "pixelType": "U8",
 "minPixelSize": 0,
 "maxPixelSize": 0,
 "copyrightText": "GADP imbabura",
 "serviceDataType": "esriImageServiceDataTypeGeneric",
 "minValues": [
  3,
  9,
  1,
  255
 ],
 "maxValues": [
  255,
  255,
  255,
  255
 ],
 "meanValues": [
  132.13251935692,
  139.73477713467,
  103.00818026265,
  255
 ],
 "stdvValues": [
  40.258300401009,
  35.274867990542,
  37.684099125824,
  0
 ],
 "objectIdField": "",
 "fields": [],
 "capabilities": "Image,Metadata,Mensuration",
 "defaultMosaicMethod": "Center",
 "allowedMosaicMethods": "",
 "sortField": "",
 "sortValue": null,
 "sortAscending": true,
 "mosaicOperator": "First",
 "defaultCompressionQuality": 75,
 "defaultResamplingMethod": "Bilinear",
 "maxImageHeight": 4100,
 "maxImageWidth": 15000,
 "allowRasterFunction": true,
 "rasterFunctionInfos": [
  {
   "name": "None",
   "description": "",
   "help": ""
  }
 ],
 "rasterTypeInfos": [
  {
   "name": "Raster Dataset",
   "description": "Supports all ArcGIS Raster Datasets",
   "help": ""
  }
 ],
 "mensurationCapabilities": "Basic",
 "hasHistograms": true,
 "hasColormap": false,
 "hasRasterAttributeTable": false,
 "minScale": 0,
 "maxScale": 0,
 "exportTilesAllowed": false,
 "hasMultidimensions": false,
 "supportsStatistics": false,
 "supportsAdvancedQueries": false,
 "editFieldsInfo": null,
 "ownershipBasedAccessControlForRasters": null,
 "allowComputeTiePoints": false,
 "useStandardizedQueries": true,
 "advancedQueryCapabilities": {
  "useStandardizedQueries": true,
  "supportsStatistics": false,
  "supportsOrderBy": false,
  "supportsDistinct": false,
  "supportsPagination": false
 },
 "spatialReference": {
  "wkid": 4326,
  "latestWkid": 4326
 }
}
