View In:
ArcGIS JavaScript
ArcGIS Online Map Viewer
ArcGIS Earth
ArcMap
View Footprint In:
ArcGIS Online Map Viewer
Service Description: La Mesa, Pimampiro 2017
Name: DRONE/LaMesaPim2017
Description: La Mesa, Pimampiro 2017
Single Fused Map Cache: false
Extent:
XMin: -77.92842016165227
YMin: 0.35601906537591504
XMax: -77.91918313140053
YMax: 0.36575783674830636
Spatial Reference: 4326
(4326)
Initial Extent:
XMin: -77.92842016165227
YMin: 0.35601906537591504
XMax: -77.91918313140053
YMax: 0.36575783674830636
Spatial Reference: 4326
(4326)
Full Extent:
XMin: -77.92842016165227
YMin: 0.35601906537591504
XMax: -77.91918313140053
YMax: 0.36575783674830636
Spatial Reference: 4326
(4326)
Pixel Size X: 1.1889600015110692E-6
Pixel Size Y: 1.188960001512797E-6
Band Count: 4
Pixel Type: U16
RasterFunction Infos: {"rasterFunctionInfos": [{
"name": "None",
"description": "",
"help": ""
}]}
Mensuration Capabilities: Basic
Has Histograms: true
Has Colormap: false
Has Multi Dimensions : false
Rendering Rule:
Min Scale: 0
Max Scale: 0
Copyright Text: GADP Imbabura
Service Data Type: esriImageServiceDataTypeGeneric
Min Values: 1, 11, 1, 255
Max Values: 256, 256, 256, 256
Mean Values: 170.10350421825, 175.05070375708, 160.73784657547, 255.37690048186
Standard Deviation Values: 76.07113701563, 70.807312739867, 81.845652983227, 0.48460964944221
Object ID Field:
Fields:
None
Default Mosaic Method: Center
Allowed Mosaic Methods:
SortField:
SortValue: null
Mosaic Operator: First
Default Compression Quality: 75
Default Resampling Method: Bilinear
Max Record Count: null
Max Image Height: 4100
Max Image Width: 15000
Max Download Image Count: null
Max Mosaic Image Count: null
Allow Raster Function: true
Allow Copy: null
Allow Analysis: null
Allow Compute TiePoints: false
Supports Statistics: false
Supports Advanced Queries: false
Use StandardizedQueries: true
Raster Type Infos:
Name: Raster Dataset
Description: Supports all ArcGIS Raster Datasets
Help:
Has Raster Attribute Table: false
Edit Fields Info: null
Ownership Based AccessControl For Rasters: null
Child Resources:
Info
Histograms
Key Properties
Legend
Raster Function Infos
Supported Operations:
Export Image
Identify
Measure
Compute Histograms
Compute Statistics Histograms
Get Samples
Compute Class Statistics
Query Boundary
Compute Pixel Location
Validate
Project