{
 "currentVersion": 10.9,
 "serviceDescription": "La Mesa, Pimampiro 2017",
 "name": "DRONE/LaMesaPim2017",
 "description": "La Mesa, Pimampiro 2017",
 "extent": {
  "xmin": -77.92842016165227,
  "ymin": 0.35601906537591504,
  "xmax": -77.91918313140053,
  "ymax": 0.36575783674830636,
  "spatialReference": {
   "wkid": 4326,
   "latestWkid": 4326
  }
 },
 "initialExtent": {
  "xmin": -77.92842016165227,
  "ymin": 0.35601906537591504,
  "xmax": -77.91918313140053,
  "ymax": 0.36575783674830636,
  "spatialReference": {
   "wkid": 4326,
   "latestWkid": 4326
  }
 },
 "fullExtent": {
  "xmin": -77.92842016165227,
  "ymin": 0.35601906537591504,
  "xmax": -77.91918313140053,
  "ymax": 0.36575783674830636,
  "spatialReference": {
   "wkid": 4326,
   "latestWkid": 4326
  }
 },
 "pixelSizeX": 1.1889600015110692E-6,
 "pixelSizeY": 1.188960001512797E-6,
 "bandCount": 4,
 "pixelType": "U16",
 "minPixelSize": 0,
 "maxPixelSize": 0,
 "copyrightText": "GADP Imbabura",
 "serviceDataType": "esriImageServiceDataTypeGeneric",
 "minValues": [
  1,
  11,
  1,
  255
 ],
 "maxValues": [
  256,
  256,
  256,
  256
 ],
 "meanValues": [
  170.10350421825,
  175.05070375708,
  160.73784657547,
  255.37690048186
 ],
 "stdvValues": [
  76.07113701563,
  70.807312739867,
  81.845652983227,
  0.48460964944221
 ],
 "objectIdField": "",
 "fields": [],
 "capabilities": "Image,Metadata,Mensuration",
 "defaultMosaicMethod": "Center",
 "allowedMosaicMethods": "",
 "sortField": "",
 "sortValue": null,
 "sortAscending": true,
 "mosaicOperator": "First",
 "defaultCompressionQuality": 75,
 "defaultResamplingMethod": "Bilinear",
 "maxImageHeight": 4100,
 "maxImageWidth": 15000,
 "allowRasterFunction": true,
 "rasterFunctionInfos": [
  {
   "name": "None",
   "description": "",
   "help": ""
  }
 ],
 "rasterTypeInfos": [
  {
   "name": "Raster Dataset",
   "description": "Supports all ArcGIS Raster Datasets",
   "help": ""
  }
 ],
 "mensurationCapabilities": "Basic",
 "hasHistograms": true,
 "hasColormap": false,
 "hasRasterAttributeTable": false,
 "minScale": 0,
 "maxScale": 0,
 "exportTilesAllowed": false,
 "hasMultidimensions": false,
 "supportsStatistics": false,
 "supportsAdvancedQueries": false,
 "editFieldsInfo": null,
 "ownershipBasedAccessControlForRasters": null,
 "allowComputeTiePoints": false,
 "useStandardizedQueries": true,
 "advancedQueryCapabilities": {
  "useStandardizedQueries": true,
  "supportsStatistics": false,
  "supportsOrderBy": false,
  "supportsDistinct": false,
  "supportsPagination": false
 },
 "spatialReference": {
  "wkid": 4326,
  "latestWkid": 4326
 }
}
