View In:
ArcGIS JavaScript
ArcGIS Online Map Viewer
ArcGIS Earth
ArcMap
View Footprint In:
ArcGIS Online Map Viewer
Service Description: Ortofoto de San Roque, Antonio Ante, 2017
Name: DRONE/SanRoque2017
Description: Ortofoto de San Roque, Antonio Ante, 2017
Single Fused Map Cache: false
Extent:
XMin: -78.2246602111719
YMin: 0.31258725923848524
XMax: -78.21751103502764
YMax: 0.3217929012805071
Spatial Reference: 4326
(4326)
Initial Extent:
XMin: -78.2246602111719
YMin: 0.31258725923848524
XMax: -78.21751103502764
YMax: 0.3217929012805071
Spatial Reference: 4326
(4326)
Full Extent:
XMin: -78.2246602111719
YMin: 0.31258725923848524
XMax: -78.21751103502764
YMax: 0.3217929012805071
Spatial Reference: 4326
(4326)
Pixel Size X: 7.125661461430313E-7
Pixel Size Y: 7.12566146143033E-7
Band Count: 4
Pixel Type: U8
RasterFunction Infos: {"rasterFunctionInfos": [{
"name": "None",
"description": "",
"help": ""
}]}
Mensuration Capabilities: Basic
Has Histograms: true
Has Colormap: false
Has Multi Dimensions : false
Rendering Rule:
Min Scale: 0
Max Scale: 0
Copyright Text: GADP Imbabura
Service Data Type: esriImageServiceDataTypeGeneric
Min Values: 12, 38, 2, 255
Max Values: 255, 255, 255, 255
Mean Values: 179.97951924349, 190.41725091765, 155.81702723545, 255
Standard Deviation Values: 37.078451928717, 31.497936174169, 40.018652973636, 0
Object ID Field:
Fields:
None
Default Mosaic Method: Center
Allowed Mosaic Methods:
SortField:
SortValue: null
Mosaic Operator: First
Default Compression Quality: 75
Default Resampling Method: Bilinear
Max Record Count: null
Max Image Height: 4100
Max Image Width: 15000
Max Download Image Count: null
Max Mosaic Image Count: null
Allow Raster Function: true
Allow Copy: null
Allow Analysis: null
Allow Compute TiePoints: false
Supports Statistics: false
Supports Advanced Queries: false
Use StandardizedQueries: true
Raster Type Infos:
Name: Raster Dataset
Description: Supports all ArcGIS Raster Datasets
Help:
Has Raster Attribute Table: false
Edit Fields Info: null
Ownership Based AccessControl For Rasters: null
Child Resources:
Info
Histograms
Key Properties
Legend
Raster Function Infos
Supported Operations:
Export Image
Identify
Measure
Compute Histograms
Compute Statistics Histograms
Get Samples
Compute Class Statistics
Query Boundary
Compute Pixel Location
Validate
Project