View In:
ArcGIS JavaScript
ArcGIS Online Map Viewer
ArcGIS Earth
ArcMap
View Footprint In:
ArcGIS Online Map Viewer
Service Description: Ortofoto de San José de Minas, 2020
Name: DRONE/SanJoseMinas2020
Description: Ortofoto de San José de Minas, 2020
Single Fused Map Cache: false
Extent:
XMin: -78.40377627600377
YMin: 0.242907702097542
XMax: -78.38857185774464
YMax: 0.25772700584512775
Spatial Reference: 4326
(4326)
Initial Extent:
XMin: -78.40377627600377
YMin: 0.242907702097542
XMax: -78.38857185774464
YMax: 0.25772700584512775
Spatial Reference: 4326
(4326)
Full Extent:
XMin: -78.40377627600377
YMin: 0.242907702097542
XMax: -78.38857185774464
YMax: 0.25772700584512775
Spatial Reference: 4326
(4326)
Pixel Size X: 6.083957528362652E-7
Pixel Size Y: 6.083957528362653E-7
Band Count: 4
Pixel Type: U8
RasterFunction Infos: {"rasterFunctionInfos": [{
"name": "None",
"description": "",
"help": ""
}]}
Mensuration Capabilities: Basic
Has Histograms: true
Has Colormap: false
Has Multi Dimensions : false
Rendering Rule:
Min Scale: 0
Max Scale: 0
Copyright Text: GADP Imbabura
Service Data Type: esriImageServiceDataTypeGeneric
Min Values: 0, 0, 0, 0
Max Values: 254, 254, 254, 0
Mean Values: 116.39547183237, 123.74106674968, 112.31504004056, 0
Standard Deviation Values: 33.007272856487, 30.045389146539, 31.692521294969, 0
Object ID Field:
Fields:
None
Default Mosaic Method: Center
Allowed Mosaic Methods:
SortField:
SortValue: null
Mosaic Operator: First
Default Compression Quality: 75
Default Resampling Method: Bilinear
Max Record Count: null
Max Image Height: 4100
Max Image Width: 15000
Max Download Image Count: null
Max Mosaic Image Count: null
Allow Raster Function: true
Allow Copy: null
Allow Analysis: null
Allow Compute TiePoints: false
Supports Statistics: false
Supports Advanced Queries: false
Use StandardizedQueries: true
Raster Type Infos:
Name: Raster Dataset
Description: Supports all ArcGIS Raster Datasets
Help:
Has Raster Attribute Table: false
Edit Fields Info: null
Ownership Based AccessControl For Rasters: null
Child Resources:
Info
Histograms
Key Properties
Legend
Raster Function Infos
Supported Operations:
Export Image
Identify
Measure
Compute Histograms
Compute Statistics Histograms
Get Samples
Compute Class Statistics
Query Boundary
Compute Pixel Location
Validate
Project