View In:
ArcGIS JavaScript
ArcGIS Online Map Viewer
ArcGIS Earth
ArcMap
View Footprint In:
ArcGIS Online Map Viewer
Service Description: Ortofoto La Remonta, Ibarra
Name: DRONE/Remonta2020
Description: Ortofoto La Remonta, Ibarra
Single Fused Map Cache: false
Extent:
XMin: -78.12711374923153
YMin: 0.27551081681878126
XMax: -78.10785710859021
YMax: 0.29445144505976334
Spatial Reference: 4326
(4326)
Initial Extent:
XMin: -78.12711374923153
YMin: 0.27551081681878126
XMax: -78.10785710859021
YMax: 0.29445144505976334
Spatial Reference: 4326
(4326)
Full Extent:
XMin: -78.12711374923153
YMin: 0.27551081681878126
XMax: -78.10785710859021
YMax: 0.29445144505976334
Spatial Reference: 4326
(4326)
Pixel Size X: 6.488960992491029E-7
Pixel Size Y: 6.488960992491035E-7
Band Count: 4
Pixel Type: U8
RasterFunction Infos: {"rasterFunctionInfos": [{
"name": "None",
"description": "",
"help": ""
}]}
Mensuration Capabilities: Basic
Has Histograms: true
Has Colormap: false
Has Multi Dimensions : false
Rendering Rule:
Min Scale: 0
Max Scale: 0
Copyright Text: GADP Imbabura
Service Data Type: esriImageServiceDataTypeGeneric
Min Values: 0, 0, 0, 0
Max Values: 255, 255, 255, 255
Mean Values: 150.74945052986, 153.83070106895, 139.64026710761, 155.81373681421
Standard Deviation Values: 86.990374281445, 83.969275593167, 95.682711871119, 124.31646039624
Object ID Field:
Fields:
None
Default Mosaic Method: Center
Allowed Mosaic Methods:
SortField:
SortValue: null
Mosaic Operator: First
Default Compression Quality: 75
Default Resampling Method: Bilinear
Max Record Count: null
Max Image Height: 4100
Max Image Width: 15000
Max Download Image Count: null
Max Mosaic Image Count: null
Allow Raster Function: true
Allow Copy: null
Allow Analysis: null
Allow Compute TiePoints: false
Supports Statistics: false
Supports Advanced Queries: false
Use StandardizedQueries: true
Raster Type Infos:
Name: Raster Dataset
Description: Supports all ArcGIS Raster Datasets
Help:
Has Raster Attribute Table: false
Edit Fields Info: null
Ownership Based AccessControl For Rasters: null
Child Resources:
Info
Histograms
Key Properties
Legend
Raster Function Infos
Supported Operations:
Export Image
Identify
Measure
Compute Histograms
Compute Statistics Histograms
Get Samples
Compute Class Statistics
Query Boundary
Compute Pixel Location
Validate
Project