View In:
ArcGIS JavaScript
ArcGIS Online Map Viewer
ArcGIS Earth
ArcMap
View Footprint In:
ArcGIS Online Map Viewer
Service Description: Ortofoto Parque Céntrica Ibarra, 2017
Name: DRONE/ParqueCentrica2017
Description: Ortofoto Parque Céntrica Ibarra, 2017
Single Fused Map Cache: false
Extent:
XMin: -78.14270440177827
YMin: 0.32725962919637563
XMax: -78.13519904286781
YMax: 0.3342949964496215
Spatial Reference: 4326
(4326)
Initial Extent:
XMin: -78.14270440177827
YMin: 0.32725962919637563
XMax: -78.13519904286781
YMax: 0.3342949964496215
Spatial Reference: 4326
(4326)
Full Extent:
XMin: -78.14270440177827
YMin: 0.32725962919637563
XMax: -78.13519904286781
YMax: 0.3342949964496215
Spatial Reference: 4326
(4326)
Pixel Size X: 2.737283967491196E-7
Pixel Size Y: 2.7372839674912E-7
Band Count: 4
Pixel Type: U8
RasterFunction Infos: {"rasterFunctionInfos": [{
"name": "None",
"description": "",
"help": ""
}]}
Mensuration Capabilities: Basic
Has Histograms: true
Has Colormap: false
Has Multi Dimensions : false
Rendering Rule:
Min Scale: 0
Max Scale: 0
Copyright Text: GADP Imbabura
Service Data Type: esriImageServiceDataTypeGeneric
Min Values: 1, 1, 1, 255
Max Values: 255, 255, 255, 255
Mean Values: 101.47208037306, 113.27114054595, 101.9186764452, 255
Standard Deviation Values: 46.53345224935, 41.043098113359, 57.354412995292, 0
Object ID Field:
Fields:
None
Default Mosaic Method: Center
Allowed Mosaic Methods:
SortField:
SortValue: null
Mosaic Operator: First
Default Compression Quality: 75
Default Resampling Method: Bilinear
Max Record Count: null
Max Image Height: 4100
Max Image Width: 15000
Max Download Image Count: null
Max Mosaic Image Count: null
Allow Raster Function: true
Allow Copy: null
Allow Analysis: null
Allow Compute TiePoints: false
Supports Statistics: false
Supports Advanced Queries: false
Use StandardizedQueries: true
Raster Type Infos:
Name: Raster Dataset
Description: Supports all ArcGIS Raster Datasets
Help:
Has Raster Attribute Table: false
Edit Fields Info: null
Ownership Based AccessControl For Rasters: null
Child Resources:
Info
Histograms
Key Properties
Legend
Raster Function Infos
Supported Operations:
Export Image
Identify
Measure
Compute Histograms
Compute Statistics Histograms
Get Samples
Compute Class Statistics
Query Boundary
Compute Pixel Location
Validate
Project