View In:
ArcGIS JavaScript
ArcGIS Online Map Viewer
ArcGIS Earth
ArcMap
View Footprint In:
ArcGIS Online Map Viewer
Service Description: Ortofoto Imbaya 2017
Name: DRONE/Imbaya2017
Description: Ortofoto Imbaya 2017
Single Fused Map Cache: false
Extent:
XMin: -78.16431557023466
YMin: 0.3832895618268013
XMax: -78.15911005746256
YMax: 0.38864598428224595
Spatial Reference: 4326
(4326)
Initial Extent:
XMin: -78.16431557023466
YMin: 0.3832895618268013
XMax: -78.15911005746256
YMax: 0.38864598428224595
Spatial Reference: 4326
(4326)
Full Extent:
XMin: -78.16431557023466
YMin: 0.3832895618268013
XMax: -78.15911005746256
YMax: 0.38864598428224595
Spatial Reference: 4326
(4326)
Pixel Size X: 3.48521208630662E-7
Pixel Size Y: 3.485212086306626E-7
Band Count: 4
Pixel Type: U8
RasterFunction Infos: {"rasterFunctionInfos": [{
"name": "None",
"description": "",
"help": ""
}]}
Mensuration Capabilities: Basic
Has Histograms: true
Has Colormap: false
Has Multi Dimensions : false
Rendering Rule:
Min Scale: 0
Max Scale: 0
Copyright Text: GADP Imbabura
Service Data Type: esriImageServiceDataTypeGeneric
Min Values: 22, 21, 3, 255
Max Values: 255, 255, 255, 255
Mean Values: 183.98245050598, 195.47651051877, 157.26438026155, 255
Standard Deviation Values: 34.489663163871, 26.745490291375, 39.852041247455, 0
Object ID Field:
Fields:
None
Default Mosaic Method: Center
Allowed Mosaic Methods:
SortField:
SortValue: null
Mosaic Operator: First
Default Compression Quality: 75
Default Resampling Method: Bilinear
Max Record Count: null
Max Image Height: 4100
Max Image Width: 15000
Max Download Image Count: null
Max Mosaic Image Count: null
Allow Raster Function: true
Allow Copy: null
Allow Analysis: null
Allow Compute TiePoints: false
Supports Statistics: false
Supports Advanced Queries: false
Use StandardizedQueries: true
Raster Type Infos:
Name: Raster Dataset
Description: Supports all ArcGIS Raster Datasets
Help:
Has Raster Attribute Table: false
Edit Fields Info: null
Ownership Based AccessControl For Rasters: null
Child Resources:
Info
Histograms
Key Properties
Legend
Raster Function Infos
Supported Operations:
Export Image
Identify
Measure
Compute Histograms
Compute Statistics Histograms
Get Samples
Compute Class Statistics
Query Boundary
Compute Pixel Location
Validate
Project