View In:
ArcGIS JavaScript
ArcGIS Online Map Viewer
ArcGIS Earth
ArcMap
View Footprint In:
ArcGIS Online Map Viewer
Service Description: Ortofoto H Paraíso - Cotacachi 2020
Name: DRONE/HParaisoCotacachi2020
Description: Ortofoto H Paraíso - Cotacachi 2020
Single Fused Map Cache: false
Extent:
XMin: -78.25873633787708
YMin: 0.3225400120454729
XMax: -78.2520112822766
YMax: 0.3293554885615933
Spatial Reference: 4326
(4326)
Initial Extent:
XMin: -78.25873633787708
YMin: 0.3225400120454729
XMax: -78.2520112822766
YMax: 0.3293554885615933
Spatial Reference: 4326
(4326)
Full Extent:
XMin: -78.25873633787708
YMin: 0.3225400120454729
XMax: -78.2520112822766
YMax: 0.3293554885615933
Spatial Reference: 4326
(4326)
Pixel Size X: 3.1396151262762105E-7
Pixel Size Y: 3.139615126276217E-7
Band Count: 4
Pixel Type: U8
RasterFunction Infos: {"rasterFunctionInfos": [{
"name": "None",
"description": "",
"help": ""
}]}
Mensuration Capabilities: Basic
Has Histograms: true
Has Colormap: false
Has Multi Dimensions : false
Rendering Rule:
Min Scale: 0
Max Scale: 0
Copyright Text: GADP Imbabura
Service Data Type: esriImageServiceDataTypeGeneric
Min Values: 0, 0, 0, 0
Max Values: 254, 254, 254, 0
Mean Values: 120.14245351608, 128.88841391262, 105.7788130489, 0
Standard Deviation Values: 53.832307780814, 47.568735750258, 53.41560158039, 0
Object ID Field:
Fields:
None
Default Mosaic Method: Center
Allowed Mosaic Methods:
SortField:
SortValue: null
Mosaic Operator: First
Default Compression Quality: 75
Default Resampling Method: Bilinear
Max Record Count: null
Max Image Height: 4100
Max Image Width: 15000
Max Download Image Count: null
Max Mosaic Image Count: null
Allow Raster Function: true
Allow Copy: null
Allow Analysis: null
Allow Compute TiePoints: false
Supports Statistics: false
Supports Advanced Queries: false
Use StandardizedQueries: true
Raster Type Infos:
Name: Raster Dataset
Description: Supports all ArcGIS Raster Datasets
Help:
Has Raster Attribute Table: false
Edit Fields Info: null
Ownership Based AccessControl For Rasters: null
Child Resources:
Info
Histograms
Key Properties
Legend
Raster Function Infos
Supported Operations:
Export Image
Identify
Measure
Compute Histograms
Compute Statistics Histograms
Get Samples
Compute Class Statistics
Query Boundary
Compute Pixel Location
Validate
Project