View In:
ArcGIS JavaScript
ArcGIS Online Map Viewer
ArcGIS Earth
ArcMap
View Footprint In:
ArcGIS Online Map Viewer
Service Description: DRONE/Chaltura2017
Name: DRONE/Chaltura2017
Description:
Single Fused Map Cache: false
Extent:
XMin: -78.21034123354345
YMin: 0.36228550437187307
XMax: -78.20787467117795
YMax: 0.3653822435547285
Spatial Reference: 4326
(4326)
Initial Extent:
XMin: -78.21034123354345
YMin: 0.36228550437187307
XMax: -78.20787467117795
YMax: 0.3653822435547285
Spatial Reference: 4326
(4326)
Full Extent:
XMin: -78.21034123354345
YMin: 0.36228550437187307
XMax: -78.20787467117795
YMax: 0.3653822435547285
Spatial Reference: 4326
(4326)
Pixel Size X: 3.493219608409925E-7
Pixel Size Y: 3.493219608409941E-7
Band Count: 4
Pixel Type: U8
RasterFunction Infos: {"rasterFunctionInfos": [{
"name": "None",
"description": "",
"help": ""
}]}
Mensuration Capabilities: Basic
Has Histograms: true
Has Colormap: false
Has Multi Dimensions : false
Rendering Rule:
Min Scale: 0
Max Scale: 0
Copyright Text:
Service Data Type: esriImageServiceDataTypeGeneric
Min Values: 4, 15, 1, 255
Max Values: 255, 255, 255, 255
Mean Values: 137.15131374843, 149.42769102858, 105.24813034656, 255
Standard Deviation Values: 35.073049465252, 26.835393662903, 35.85900254618, 0
Object ID Field:
Fields:
None
Default Mosaic Method: Center
Allowed Mosaic Methods:
SortField:
SortValue: null
Mosaic Operator: First
Default Compression Quality: 75
Default Resampling Method: Bilinear
Max Record Count: null
Max Image Height: 4100
Max Image Width: 15000
Max Download Image Count: null
Max Mosaic Image Count: null
Allow Raster Function: true
Allow Copy: null
Allow Analysis: null
Allow Compute TiePoints: false
Supports Statistics: false
Supports Advanced Queries: false
Use StandardizedQueries: true
Raster Type Infos:
Name: Raster Dataset
Description: Supports all ArcGIS Raster Datasets
Help:
Has Raster Attribute Table: false
Edit Fields Info: null
Ownership Based AccessControl For Rasters: null
Child Resources:
Info
Histograms
Key Properties
Legend
Raster Function Infos
Supported Operations:
Export Image
Identify
Measure
Compute Histograms
Compute Statistics Histograms
Get Samples
Compute Class Statistics
Query Boundary
Compute Pixel Location
Validate
Project