{
 "currentVersion": 10.9,
 "serviceDescription": "DTM Imbabura 30x30",
 "name": "raster/dtm30x30_pService",
 "description": "DTM Imbabura 30x30",
 "extent": {
  "xmin": 691971.6699999999,
  "ymin": 1.00134015429E7,
  "xmax": 855021.6699999999,
  "ymax": 1.00969215429E7,
  "spatialReference": {
   "wkid": 32717,
   "latestWkid": 32717
  }
 },
 "initialExtent": {
  "xmin": 691971.6699999999,
  "ymin": 1.00134015429E7,
  "xmax": 855021.6699999999,
  "ymax": 1.00969215429E7,
  "spatialReference": {
   "wkid": 32717,
   "latestWkid": 32717
  }
 },
 "fullExtent": {
  "xmin": 691971.6699999999,
  "ymin": 1.00134015429E7,
  "xmax": 855021.6699999999,
  "ymax": 1.00969215429E7,
  "spatialReference": {
   "wkid": 32717,
   "latestWkid": 32717
  }
 },
 "pixelSizeX": 30,
 "pixelSizeY": 30,
 "bandCount": 1,
 "pixelType": "U8",
 "minPixelSize": 0,
 "maxPixelSize": 0,
 "copyrightText": "GADP Imbabura",
 "serviceDataType": "esriImageServiceDataTypeGeneric",
 "minValues": [
  0
 ],
 "maxValues": [
  254
 ],
 "meanValues": [
  170.5976362620545
 ],
 "stdvValues": [
  44.70676327777327
 ],
 "objectIdField": "",
 "fields": [],
 "capabilities": "Image,Metadata,Mensuration",
 "defaultMosaicMethod": "Center",
 "allowedMosaicMethods": "",
 "sortField": "",
 "sortValue": null,
 "sortAscending": true,
 "mosaicOperator": "First",
 "defaultCompressionQuality": 75,
 "defaultResamplingMethod": "Bilinear",
 "maxImageHeight": 4100,
 "maxImageWidth": 15000,
 "allowRasterFunction": true,
 "rasterFunctionInfos": [
  {
   "name": "None",
   "description": "",
   "help": ""
  }
 ],
 "rasterTypeInfos": [
  {
   "name": "Raster Dataset",
   "description": "Supports all ArcGIS Raster Datasets",
   "help": ""
  }
 ],
 "mensurationCapabilities": "Basic",
 "hasHistograms": true,
 "hasColormap": false,
 "hasRasterAttributeTable": true,
 "minScale": 0,
 "maxScale": 0,
 "exportTilesAllowed": false,
 "hasMultidimensions": false,
 "supportsStatistics": false,
 "supportsAdvancedQueries": false,
 "editFieldsInfo": null,
 "ownershipBasedAccessControlForRasters": null,
 "allowComputeTiePoints": false,
 "useStandardizedQueries": true,
 "advancedQueryCapabilities": {
  "useStandardizedQueries": true,
  "supportsStatistics": false,
  "supportsOrderBy": false,
  "supportsDistinct": false,
  "supportsPagination": false
 },
 "spatialReference": {
  "wkid": 32717,
  "latestWkid": 32717
 }
}
