{
 "currentVersion": 10.9,
 "serviceDescription": "Ortofoto La Esperanza, Ibarra 2017",
 "name": "DRONE/LaEsperanza2017",
 "description": "Ortofoto La Esperanza, Ibarra 2017",
 "extent": {
  "xmin": -78.11874721363978,
  "ymin": 0.29010491786091097,
  "xmax": -78.11515725038855,
  "ymax": 0.29611155671317024,
  "spatialReference": {
   "wkid": 4326,
   "latestWkid": 4326
  }
 },
 "initialExtent": {
  "xmin": -78.11874721363978,
  "ymin": 0.29010491786091097,
  "xmax": -78.11515725038855,
  "ymax": 0.29611155671317024,
  "spatialReference": {
   "wkid": 4326,
   "latestWkid": 4326
  }
 },
 "fullExtent": {
  "xmin": -78.11874721363978,
  "ymin": 0.29010491786091097,
  "xmax": -78.11515725038855,
  "ymax": 0.29611155671317024,
  "spatialReference": {
   "wkid": 4326,
   "latestWkid": 4326
  }
 },
 "pixelSizeX": 4.038203882148181E-7,
 "pixelSizeY": 3.7050572737844014E-7,
 "bandCount": 4,
 "pixelType": "U16",
 "minPixelSize": 0,
 "maxPixelSize": 0,
 "copyrightText": "GADP Imbabura",
 "serviceDataType": "esriImageServiceDataTypeGeneric",
 "minValues": [
  1,
  2,
  1,
  255
 ],
 "maxValues": [
  255,
  255,
  255,
  255
 ],
 "meanValues": [
  124.69882156943,
  133.98687078689,
  93.897302212131,
  255
 ],
 "stdvValues": [
  46.213625746126,
  42.345172777831,
  49.166252723289,
  0
 ],
 "objectIdField": "",
 "fields": [],
 "capabilities": "Image,Metadata,Mensuration",
 "defaultMosaicMethod": "Center",
 "allowedMosaicMethods": "",
 "sortField": "",
 "sortValue": null,
 "sortAscending": true,
 "mosaicOperator": "First",
 "defaultCompressionQuality": 75,
 "defaultResamplingMethod": "Bilinear",
 "maxImageHeight": 4100,
 "maxImageWidth": 15000,
 "allowRasterFunction": true,
 "rasterFunctionInfos": [
  {
   "name": "None",
   "description": "",
   "help": ""
  }
 ],
 "rasterTypeInfos": [
  {
   "name": "Raster Dataset",
   "description": "Supports all ArcGIS Raster Datasets",
   "help": ""
  }
 ],
 "mensurationCapabilities": "Basic",
 "hasHistograms": true,
 "hasColormap": false,
 "hasRasterAttributeTable": false,
 "minScale": 0,
 "maxScale": 0,
 "exportTilesAllowed": false,
 "hasMultidimensions": false,
 "supportsStatistics": false,
 "supportsAdvancedQueries": false,
 "editFieldsInfo": null,
 "ownershipBasedAccessControlForRasters": null,
 "allowComputeTiePoints": false,
 "useStandardizedQueries": true,
 "advancedQueryCapabilities": {
  "useStandardizedQueries": true,
  "supportsStatistics": false,
  "supportsOrderBy": false,
  "supportsDistinct": false,
  "supportsPagination": false
 },
 "spatialReference": {
  "wkid": 4326,
  "latestWkid": 4326
 }
}